BEGIN:VCALENDAR
VERSION:2.0
PRODID:-//4 Wheel To Heal - ECPv6.13.2.1//NONSGML v1.0//EN
CALSCALE:GREGORIAN
METHOD:PUBLISH
X-ORIGINAL-URL:https://www.4w2h.org
X-WR-CALDESC:Events for 4 Wheel To Heal
REFRESH-INTERVAL;VALUE=DURATION:PT1H
X-Robots-Tag:noindex
X-PUBLISHED-TTL:PT1H
BEGIN:VTIMEZONE
TZID:America/New_York
BEGIN:DAYLIGHT
TZOFFSETFROM:-0500
TZOFFSETTO:-0400
TZNAME:EDT
DTSTART:20190310T070000
END:DAYLIGHT
BEGIN:STANDARD
TZOFFSETFROM:-0400
TZOFFSETTO:-0500
TZNAME:EST
DTSTART:20191103T060000
END:STANDARD
BEGIN:DAYLIGHT
TZOFFSETFROM:-0500
TZOFFSETTO:-0400
TZNAME:EDT
DTSTART:20200308T070000
END:DAYLIGHT
BEGIN:STANDARD
TZOFFSETFROM:-0400
TZOFFSETTO:-0500
TZNAME:EST
DTSTART:20201101T060000
END:STANDARD
BEGIN:DAYLIGHT
TZOFFSETFROM:-0500
TZOFFSETTO:-0400
TZNAME:EDT
DTSTART:20210314T070000
END:DAYLIGHT
BEGIN:STANDARD
TZOFFSETFROM:-0400
TZOFFSETTO:-0500
TZNAME:EST
DTSTART:20211107T060000
END:STANDARD
BEGIN:DAYLIGHT
TZOFFSETFROM:-0500
TZOFFSETTO:-0400
TZNAME:EDT
DTSTART:20220313T070000
END:DAYLIGHT
BEGIN:STANDARD
TZOFFSETFROM:-0400
TZOFFSETTO:-0500
TZNAME:EST
DTSTART:20221106T060000
END:STANDARD
END:VTIMEZONE
BEGIN:VTIMEZONE
TZID:UTC
BEGIN:STANDARD
TZOFFSETFROM:+0000
TZOFFSETTO:+0000
TZNAME:UTC
DTSTART:20160101T000000
END:STANDARD
END:VTIMEZONE
BEGIN:VTIMEZONE
TZID:America/Los_Angeles
BEGIN:DAYLIGHT
TZOFFSETFROM:-0800
TZOFFSETTO:-0700
TZNAME:PDT
DTSTART:20170312T100000
END:DAYLIGHT
BEGIN:STANDARD
TZOFFSETFROM:-0700
TZOFFSETTO:-0800
TZNAME:PST
DTSTART:20171105T090000
END:STANDARD
END:VTIMEZONE
BEGIN:VEVENT
DTSTART;VALUE=DATE:20220723
DTEND;VALUE=DATE:20220725
DTSTAMP:20260422T112738
CREATED:20220227T185604Z
LAST-MODIFIED:20220227T190608Z
UID:6826-1658534400-1658707199@www.4w2h.org
SUMMARY:PA All Breeds Jeep Show - 2022
DESCRIPTION:PA Jeeps All Breeds Jeep Show is an annual event that has supported 4W2H for nine years. Come join us with many nationwide vendors to see Jeeps of all different types. There will be hundreds of vehicles lined up for the show as well as a raffle and an obstacle course.\n\n*4 Wheel to Heal is attending this event as a vendor only\, we are not hosting this event. Please note the new venue\n\nRegistration for the event can be taken care of at www.pajeeps.org
URL:https://www.4w2h.org/event/pa-all-breeds-jeep-show-2022/
LOCATION:Carlisle Fairgrounds\, 1000 Bryn Mawr Rd\, Carlisle\, PA\, 17103\, United States
CATEGORIES:4 Wheeling,Cbstacle Course,Jeep Show,Mud Bogging,Obstacle Course,Rock Crawling
ATTACH;FMTTYPE=image/jpeg:https://www.4w2h.org/wp-content/uploads/2022/02/273392452_4794986043882445_809425241384442580_n.jpg
ORGANIZER;CN="PA Jeeps Inc.":MAILTO:jeepshow@pajeeps.org
END:VEVENT
BEGIN:VEVENT
DTSTART;VALUE=DATE:20220610
DTEND;VALUE=DATE:20220613
DTSTAMP:20260422T112738
CREATED:20220321T005622Z
LAST-MODIFIED:20220321T005622Z
UID:6832-1654819200-1655078399@www.4w2h.org
SUMMARY:Georgia Jeep Invasion 2022
DESCRIPTION:4 Wheel to Heal will be attending this event as a vendor only. We are not hosting this event. We will have a booth there to provide supporters of 4W2H\, which is a 501(c)(3) non-profit\, the opportunity to purchase merchandise that helps 4W2H provide offroad therapy to wounded and disabled veterans.\n\nThis event is being held at Morris Mountain OHV Park in Delta\, Alabama\n\nFor more information and registration can be found at\nhttps://georgiajeepinvasion.com/
URL:https://www.4w2h.org/event/georgia-jeep-invasion-2022/
LOCATION:Morris Mountain OHV Park\, 1524 Henry Davis Rd\, Delta\, AL\, 36258\, United States
CATEGORIES:4 Wheeling,Cbstacle Course,Jeep Show,Obstacle Course,Raffle,Rock Crawling
ATTACH;FMTTYPE=image/png:https://www.4w2h.org/wp-content/uploads/2022/03/Logo-Box.png
END:VEVENT
BEGIN:VEVENT
DTSTART;VALUE=DATE:20210724
DTEND;VALUE=DATE:20210726
DTSTAMP:20260422T112738
CREATED:20210108T020320Z
LAST-MODIFIED:20210108T020320Z
UID:6638-1627084800-1627257599@www.4w2h.org
SUMMARY:PA All Breeds Jeep Show
DESCRIPTION:PA Jeeps All Breeds Jeep Show is an annual event that has supported 4W2H for eight years. Come join us with many nationwide vendors to see Jeeps of all different breeds. There will be hundreds of vehicles lined up for the show as well as a raffle and an obstacle course filled with large rocks.\n\n*4 Wheel to Heal is attending this event as a vendor only\, we are not hosting this event. Please note the new venue\n\nRegistration for the event can be taken care of at www.pajeeps.org
URL:https://www.4w2h.org/event/pa-all-breeds-jeep-show/
LOCATION:Carlisle Fairgrounds\, 1000 Bryn Mawr Rd\, Carlisle\, PA\, 17103\, United States
CATEGORIES:4 Wheeling,Cbstacle Course,Jeep Show,Mud Bogging,Obstacle Course,Rock Crawling
ATTACH;FMTTYPE=image/jpeg:https://www.4w2h.org/wp-content/uploads/2021/01/97101406_2934729246574810_601145754714636288_n-2.jpg
ORGANIZER;CN="PA Jeeps Inc.":MAILTO:jeepshow@pajeeps.org
END:VEVENT
BEGIN:VEVENT
DTSTART;TZID=America/New_York:20210605T080000
DTEND;TZID=America/New_York:20210606T190000
DTSTAMP:20260422T112738
CREATED:20210531T221947Z
LAST-MODIFIED:20210531T221947Z
UID:6758-1622880000-1623006000@www.4w2h.org
SUMMARY:Jeepin the Coast
DESCRIPTION:JTC unites all jeepers for its yearly Jeepin The Coast event on the Mississippi Gulf Coast\, which offers a 26 mile-long beach with soft sand and beautiful views. JTC sets up multiple events for jeepers to either stay together or branch off into their own adventure throughout the coast.\n\nNote: 4 Wheel to Heal is attending this event as a vendor! We are not the hosts.
URL:https://www.4w2h.org/event/jeepin-the-coast/
LOCATION:AL
CATEGORIES:4 Wheeling,Jeep Show
ATTACH;FMTTYPE=image/png:https://www.4w2h.org/wp-content/uploads/2021/05/jtc-logo-transparent_800x-1.png
END:VEVENT
BEGIN:VEVENT
DTSTART;VALUE=DATE:20210514
DTEND;VALUE=DATE:20210516
DTSTAMP:20260422T112738
CREATED:20210507T005319Z
LAST-MODIFIED:20210507T005902Z
UID:6735-1620950400-1621123199@www.4w2h.org
SUMMARY:Florida Jeep Jam 2021
DESCRIPTION:4W2H will be attending this event as a VENDOR ONLY. The merchandise booth will be there Friday and Saturday 9 am- 5 pm both days.\n\n  \nFlorida Jeep Jam features a ton of Jeep activities combined with family fun hosted on “The World’s Most Beautiful Beaches”\, helping to make it easy to see why so many Jeep families keep choosing Florida Jeep Jam as their favorite Jeep only event! This May is the perfect time to enjoy your favorite Jeep beach destination vacation. Gather up everyone from your Jeep club and start making plans for celebrating Extreme Terrain’s “National Jeep Go Topless Day” in Panama City Beach during a fun extended weekend full of Jeep lovers from all over.\n\n  \nNot only does FJJ host the best Jeep beach vacation in the Southeast\, but their registered Jeeps also help fund many worthy charities. Florida Jeep Jam 2020 included over $20\,000 in charitable donations! This year they will be officially recognizing National Law Enforcement Week and US Armed Forces Weekend\, and plan on topping last year’s totals for charitable donations.\n\n  \nBe a part of the largest Jeep rally this year and help them celebrate the 6 Year Anniversary. With record Jeep attendance of events yearly growth Florida Jeep Jam has quickly earned the title of the “Fastest Growing Jeep Event in the Southeast”. Now is the time to start making plans to join Jeep owners from around the country for the Jeep invasion of Panama City Beach\, Florida.\n\n  \nFlorida Jeep Jam is scheduled to take place from May 12 – 15\, 2021. Jeep activities start Tuesday and increased daily\, leading up to the Kick-Off Party on Thursday Night and a long weekend full of awesome Jeep activities.\n\n  \nhttps://www.floridajeepjam.com/about/
URL:https://www.4w2h.org/event/florida-jeep-jam-2021/
LOCATION:Frank Brown Park\, 16200 Panama City Beach Pkwy\, Panama City Beach\, FL\, 32413-5300
CATEGORIES:4 Wheeling,Jeep Show,Music Venue
ATTACH;FMTTYPE=image/jpeg:https://www.4w2h.org/wp-content/uploads/2021/05/183373047_3927734350607623_8511427690741036797_n.jpg
END:VEVENT
BEGIN:VEVENT
DTSTART;VALUE=DATE:20210419
DTEND;VALUE=DATE:20210426
DTSTAMP:20260422T112738
CREATED:20210108T013947Z
LAST-MODIFIED:20210214T224505Z
UID:6629-1618790400-1619395199@www.4w2h.org
SUMMARY:Jeep Beach 2021
DESCRIPTION:Jeep enthusiasts gather in April each year to check out the industries newest products from over 200 vendors at The Daytona International Speedway. Jeep Beach also hosts official events throughout the week in Daytona Beach\, The World’s Most Famous Beach.\n\nSince 2012\, Jeep Beach has donated over $1.8 million to local charities through the event’s week long fund-raising efforts. All proceeds raised are distributed to charities throughout central Florida counties. Title Charities for 2019 included\, The Boys & Girls Clubs of Volusia & Flagler Counties\, The NASCAR Foundation\, The Childhood Cancer Foundation\, and The Petty Family Foundation/Victory Junction. Jeep Beach also was able to support over 30 other 501(c)(3) organizations!\n\nOn October 13th 2017\, Jeep Beach Inc.\, a 501c3 Charity was founded to continue the fund-raising efforts. Jeep Beach Inc. operates under the governance of a five member executive board and three member advisory board. All board positions\, as well as the hundreds of event workers\, are ALL volunteers from within the community. Jeep Beach Inc.’s structure allows the event to provide better experiences for the vendors and participants.
URL:https://www.4w2h.org/event/jeep-beach-2021/
LOCATION:Jeep Beach\, Daytona\, FL\, 32118\, United States
CATEGORIES:4 Wheeling,Cbstacle Course,Jeep Show,Obstacle Course
ATTACH;FMTTYPE=image/png:https://www.4w2h.org/wp-content/uploads/2021/01/2021-JB-logo-1-1.png
ORGANIZER;CN="Jeep Beach%2C Inc.":MAILTO:info@JeepBeach.com
END:VEVENT
BEGIN:VEVENT
DTSTART;VALUE=DATE:20200828
DTEND;VALUE=DATE:20200903
DTSTAMP:20260422T112738
CREATED:20170125T132357Z
LAST-MODIFIED:20200803T163130Z
UID:5410-1598572800-1599091199@www.4w2h.org
SUMMARY:CANCELLED - Sheriff’s Jeep Fest
DESCRIPTION:The Sheriff’s Foundation met with Community Leaders and healthcare officials and their 2020 event has been cancelled. From the Foundation – “We know you are distant in the Jeep\, but homebase\, downtown\, restaurants and camping areas are not possible to separate a crowd that doubles our communities population from all over the country.” \nSheriff’s Jeep Fest is a charity event held in Jasper\, GA. There will be a vendor show\, obstacle course\, day and night trail rides\, and a show n shine. If you are attending the event\, stop by the by the 4W2H booth to say\, “Hi\,” grab some merchandise\, and learn more about our mission.
URL:https://www.4w2h.org/event/sheriffs-jeep-fest/
LOCATION:Sheriff’s Jeep Fest\, 8795 Hwy 53 East\, Jasper\, GA\, 30143\, United States
CATEGORIES:4 Wheeling,Jeep Show,Obstacle Course
END:VEVENT
BEGIN:VEVENT
DTSTART;VALUE=DATE:20200717
DTEND;VALUE=DATE:20200720
DTSTAMP:20260422T112738
CREATED:20170311T024007Z
LAST-MODIFIED:20200514T000239Z
UID:5449-1594944000-1595203199@www.4w2h.org
SUMMARY:CANCELLED - PA Jeeps\, All Breeds Jeep Show 2020
DESCRIPTION:Due to the ongoing national health crisis the 2020 PA Jeeps All Breeds Jeep Show has been cancelled. Next year’s dates have been announced as 24 and 25 July 2021. https://www.facebook.com/PAJeeps/photos/a.201467093216592/3389442664419003/?type=3&theater  \nAll Breeds is an annual event that has supported 4W2H for eight years.  Come join us with many nationwide vendors to see Jeeps of all different breeds.  There will be hundreds of vehicles lined up for the show as well as a raffle and an obstacle course filled with large rocks.
URL:https://www.4w2h.org/event/pa-jeeps-all-breed-jeep-show/
LOCATION:Carlisle Fairgrounds\, 1000 Bryn Mawr Rd\, Carlisle\, PA\, 17103\, United States
CATEGORIES:Jeep Show,Obstacle Course,Raffle
ORGANIZER;CN="PA Jeeps Inc.":MAILTO:jeepshow@pajeeps.org
END:VEVENT
BEGIN:VEVENT
DTSTART;VALUE=DATE:20190222
DTEND;VALUE=DATE:20190225
DTSTAMP:20260422T112738
CREATED:20170123T111904Z
LAST-MODIFIED:20190117T053207Z
UID:5402-1550793600-1551052799@www.4w2h.org
SUMMARY:Jeepin' With Judd
DESCRIPTION:Jeepin’ With Judd is an off-road event put on by the Polk County Sheriff’s Office\, and is held at Clear Springs Ranch\, located in Bartow\, FL. This event is a charity event for specific charities designated by the Sheriff’s Office. They will have vendors\, trail rides\, a Show n Shine\, and an obstacle course. Be sure to stop by the 4W2H booth while there!
URL:https://www.4w2h.org/event/jwj/
LOCATION:Jeepin’ With Judd\, Bartow\, FL\, United States
CATEGORIES:4 Wheeling,Jeep Show
ATTACH;FMTTYPE=image/jpeg:https://www.4w2h.org/wp-content/uploads/2017/01/3-1.jpg
END:VEVENT
BEGIN:VEVENT
DTSTART;TZID=UTC:20180515T080000
DTEND;TZID=UTC:20180520T170000
DTSTAMP:20260422T112738
CREATED:20180125T131641Z
LAST-MODIFIED:20180224T184542Z
UID:5408-1526371200-1526835600@www.4w2h.org
SUMMARY:Jeep Beach Jam
DESCRIPTION:Come Join us at Jeep Beach Jam\, located in Panama City Beach\, FL. This is the third year\, and their attendance is expected to far exceed last year. There are several vendors\, an obstacle course\, a Poker Run\, and a concert. Pre-Registration is now open.  5 days of visiting the boasted “The World’s Most Beautiful Beaches.”  Bring your Jeep and relaxe\, but make sure you visit us at the booth! Join us on the beach at Panama City!
URL:https://www.4w2h.org/event/jeep-beach-jam/
LOCATION:Jeep Beach Jam\, Panama City Beach\, FL\, United States
CATEGORIES:Jeep Show,Music Venue,Obstacle Course
ATTACH;FMTTYPE=image/jpeg:https://www.4w2h.org/wp-content/uploads/2017/01/header-about-1.jpg
END:VEVENT
BEGIN:VEVENT
DTSTART;TZID=UTC:20180424T080000
DTEND;TZID=UTC:20180429T170000
DTSTAMP:20260422T112738
CREATED:20180224T172817Z
LAST-MODIFIED:20180224T173516Z
UID:5767-1524556800-1525021200@www.4w2h.org
SUMMARY:Daytona Jeep Beach
DESCRIPTION:Jeep Beach is located in beautiful Daytona Beach\, FL. Almost every vendor in the industry attenpt to make it to Jeep Beach.  There various obstacle courses as well as training runs from BFG and a cool articulating trailer to measure your jeeps stretch. Make sure to stop by the 4W2H booth\, and grab some merchandise! We will have a few warrior guests with us to enjoy the week.  Every year we try to have some new merchandise.  Make sure to bring some sunscreen lotion\, sun glasses\, and a hat.  Registration begins in mid-February and cost vary from individual entry to Jeep entry. Stop by and say hello!
URL:https://www.4w2h.org/event/daytona-jeep-beach/
LOCATION:Jeep Beach\, Daytona\, FL\, 32118\, United States
CATEGORIES:4 Wheeling,Jeep Show,Obstacle Course,Raffle
ATTACH;FMTTYPE=image/jpeg:https://www.4w2h.org/wp-content/uploads/2018/02/3.jpg
END:VEVENT
BEGIN:VEVENT
DTSTART;TZID=UTC:20180205T080000
DTEND;TZID=UTC:20180210T170000
DTSTAMP:20260422T112738
CREATED:20170118T102147Z
LAST-MODIFIED:20180119T101125Z
UID:5397-1517817600-1518282000@www.4w2h.org
SUMMARY:King of the Hammers
DESCRIPTION:Come join us and our warrior guests in Johnson Valley CA\, for 2018’s King of the Hammers.  Well will be there selling some of our new merchandise.
URL:https://www.4w2h.org/event/king-of-the-hammers-2018/
LOCATION:King of the Hammers\, Johnson Valley\, CA\, United States
CATEGORIES:Desert Racing,Jeep Show
ATTACH;FMTTYPE=image/jpeg:https://www.4w2h.org/wp-content/uploads/2015/11/10991555_783307795050310_6575502908991366271_o.jpg
END:VEVENT
BEGIN:VEVENT
DTSTART;VALUE=DATE:20170930
DTEND;VALUE=DATE:20171002
DTSTAMP:20260422T112738
CREATED:20170925T182232Z
LAST-MODIFIED:20170925T200113Z
UID:5581-1506729600-1506902399@www.4w2h.org
SUMMARY:2017 Lucas Oil Off Road Expo
DESCRIPTION:Come see 4W2H  at the 2017 Lucas Oil Off Road expo where we will be offering rides for our Warrior guests and touring the expo.  Stop by our booth and show your support for the Warriors!
URL:https://www.4w2h.org/event/2017-lucas-oil-off-road-expo/
LOCATION:Off-Road Expo\, 1101 W McKinley Ave\, Pamona\, CA\, 91768\, United States
CATEGORIES:4 Wheeling,Cbstacle Course,Jeep Show,Raffle
END:VEVENT
BEGIN:VEVENT
DTSTART;VALUE=DATE:20170624
DTEND;VALUE=DATE:20170625
DTSTAMP:20260422T112738
CREATED:20170125T134358Z
LAST-MODIFIED:20170125T163015Z
UID:5415-1498262400-1498348799@www.4w2h.org
SUMMARY:West Michigan Jeep & 4x4 Festival
DESCRIPTION:This the 2nd Annual West Michigan Jeep and 4×4 Festival\, American Military Edition.  This will be the first time we have attended this event designed to thank those that are serving and those who have.  We will have a booth set up so please come on by.
URL:https://www.4w2h.org/event/annual-west-michigan-jeep-and-4x4-festival/
LOCATION:West Michigan Jeep and 4×4 Festival\, 5235 Park Ave\, Hudsonville\, MI\, 49426\, United States
CATEGORIES:4 Wheeling,Jeep Show
ATTACH;FMTTYPE=image/jpeg:https://www.4w2h.org/wp-content/uploads/2017/01/4.jpg
END:VEVENT
BEGIN:VEVENT
DTSTART;TZID=UTC:20170425T080000
DTEND;TZID=UTC:20170430T170000
DTSTAMP:20260422T112738
CREATED:20170118T104958Z
LAST-MODIFIED:20170125T131154Z
UID:5399-1493107200-1493571600@www.4w2h.org
SUMMARY:Jeep Beach
DESCRIPTION:Jeep Beach is located in Daytona Beach\, FL. There is always a large vendor presence and various obstacle courses. So\, if you are there\, be sure to stop by the 4W2H booth\, and grab some merchandise. We will have warrior guests with us\, and some new items.  Registration begins in mid-February. Registration fee(s) have not yet been announced.
URL:https://www.4w2h.org/event/jeep-beach-2/
LOCATION:Jeep Beach\, Daytona\, FL\, 32118\, United States
CATEGORIES:Jeep Show
ATTACH;FMTTYPE=image/jpeg:https://www.4w2h.org/wp-content/uploads/2017/01/IMG_0013-e1577415970774.jpg
END:VEVENT
BEGIN:VEVENT
DTSTART;VALUE=DATE:20160716
DTEND;VALUE=DATE:20160718
DTSTAMP:20260422T112738
CREATED:20151205T214528Z
LAST-MODIFIED:20151205T215244Z
UID:4033-1468627200-1468799999@www.4w2h.org
SUMMARY:PA Jeeps All Breeds Jeep Show
DESCRIPTION:21st Annual PA Jeeps All Breeds Jeep Show at York County Fairgrounds. Activities include Show & Shine\, obstacle course\, RTI ramp\, and a huge raffle with 100’s of prizes.
URL:https://www.4w2h.org/event/pa-jeeps-all-breeds-jeep-show/
LOCATION:York County Fairgrounds\, 334 Carlisle Ave\, York\, PA\, 17404\, United States
CATEGORIES:Jeep Show
ATTACH;FMTTYPE=image/jpeg:https://www.4w2h.org/wp-content/uploads/2015/12/Image9.jpg
ORGANIZER;CN="PA Jeeps Inc.":MAILTO:jeepshow@pajeeps.org
END:VEVENT
END:VCALENDAR